BEGIN:VCALENDAR
VERSION:2.0
PRODID:-//Women&#039;s Venture Fund - ECPv6.15.17.1//NONSGML v1.0//EN
CALSCALE:GREGORIAN
METHOD:PUBLISH
X-ORIGINAL-URL:https://womensventurefund.org
X-WR-CALDESC:Events for Women&#039;s Venture Fund
REFRESH-INTERVAL;VALUE=DURATION:PT1H
X-Robots-Tag:noindex
X-PUBLISHED-TTL:PT1H
BEGIN:VTIMEZONE
TZID:America/New_York
BEGIN:DAYLIGHT
TZOFFSETFROM:-0500
TZOFFSETTO:-0400
TZNAME:EDT
DTSTART:20240310T070000
END:DAYLIGHT
BEGIN:STANDARD
TZOFFSETFROM:-0400
TZOFFSETTO:-0500
TZNAME:EST
DTSTART:20241103T060000
END:STANDARD
BEGIN:DAYLIGHT
TZOFFSETFROM:-0500
TZOFFSETTO:-0400
TZNAME:EDT
DTSTART:20250309T070000
END:DAYLIGHT
BEGIN:STANDARD
TZOFFSETFROM:-0400
TZOFFSETTO:-0500
TZNAME:EST
DTSTART:20251102T060000
END:STANDARD
BEGIN:DAYLIGHT
TZOFFSETFROM:-0500
TZOFFSETTO:-0400
TZNAME:EDT
DTSTART:20260308T070000
END:DAYLIGHT
BEGIN:STANDARD
TZOFFSETFROM:-0400
TZOFFSETTO:-0500
TZNAME:EST
DTSTART:20261101T060000
END:STANDARD
END:VTIMEZONE
BEGIN:VEVENT
DTSTART;TZID=America/New_York:20250121T120000
DTEND;TZID=America/New_York:20250121T123000
DTSTAMP:20260423T200401
CREATED:20241003T175841Z
LAST-MODIFIED:20241204T171939Z
UID:16354-1737460800-1737462600@womensventurefund.org
SUMMARY:Embrace the Power of Business Banking with Personalized Coaching
DESCRIPTION:Free Coaching from JP Morgan Chase Small Business Expert   \nA Small business executive at JP Morgan Chase is thrilled to offer her expertise to help you supercharge your revenue goals! In this informative session\, you’ll have the opportunity to join our knowledgeable speaker\, who will share impactful strategies designed specifically for growing your business. These strategies are tailored to empower you\, whether you’re just starting out or looking to expand your existing operations. \n  \nWhat’s even better? You don’t need to be a JP Morgan Chase customer to benefit from these valuable insights! This is a fantastic opportunity to gain knowledge that can make a real difference in your business trajectory. Don’t miss out on this chance to learn from the best and take actionable steps toward achieving your revenue aspirations! \n\n\nNOTE: You do not have to be a JP Morgan Chase customer to take advantage of this opportunity!\n\n\nFeature Speaker\n\nJumoke “Joy” Fagbayi-Butts\,\nVP- Senior Business Consultant.\nJP Morgan Chase\n\nJumoke was an honoree at the Greater New York Chamber of Commerce’s 2023 Women’s History Award Ceremony and has 16 years of financial consulting experience She led the highly successful Women and Wealth webinar series sponsored by WVF in 2022. As a financial expert with a passion for community outreach\, Joy is a frequent speaker and has been featured on NBC’s Chasing the Dream series.
URL:https://womensventurefund.org/event/embrace-the-power-of-business-banking-with-personalized-coaching/
END:VEVENT
END:VCALENDAR