BEGIN:VCALENDAR
VERSION:2.0
PRODID:-//Women&#039;s Venture Fund - ECPv6.15.17.1//NONSGML v1.0//EN
CALSCALE:GREGORIAN
METHOD:PUBLISH
X-ORIGINAL-URL:https://womensventurefund.org
X-WR-CALDESC:Events for Women&#039;s Venture Fund
REFRESH-INTERVAL;VALUE=DURATION:PT1H
X-Robots-Tag:noindex
X-PUBLISHED-TTL:PT1H
BEGIN:VTIMEZONE
TZID:America/New_York
BEGIN:DAYLIGHT
TZOFFSETFROM:-0500
TZOFFSETTO:-0400
TZNAME:EDT
DTSTART:20240310T070000
END:DAYLIGHT
BEGIN:STANDARD
TZOFFSETFROM:-0400
TZOFFSETTO:-0500
TZNAME:EST
DTSTART:20241103T060000
END:STANDARD
BEGIN:DAYLIGHT
TZOFFSETFROM:-0500
TZOFFSETTO:-0400
TZNAME:EDT
DTSTART:20250309T070000
END:DAYLIGHT
BEGIN:STANDARD
TZOFFSETFROM:-0400
TZOFFSETTO:-0500
TZNAME:EST
DTSTART:20251102T060000
END:STANDARD
BEGIN:DAYLIGHT
TZOFFSETFROM:-0500
TZOFFSETTO:-0400
TZNAME:EDT
DTSTART:20260308T070000
END:DAYLIGHT
BEGIN:STANDARD
TZOFFSETFROM:-0400
TZOFFSETTO:-0500
TZNAME:EST
DTSTART:20261101T060000
END:STANDARD
END:VTIMEZONE
BEGIN:VEVENT
DTSTART;TZID=America/New_York:20250528T110000
DTEND;TZID=America/New_York:20250528T120000
DTSTAMP:20260421T043011
CREATED:20250512T194439Z
LAST-MODIFIED:20250515T153024Z
UID:16475-1748430000-1748433600@womensventurefund.org
SUMMARY:Managing Personal Finances during Turbulent Economic times brought to you by National Fiancial Network
DESCRIPTION:May 2025 | Financial Literacy Series\n*Participants who sign up and attend the event will receive a FREE subscription to set up their own FINANCIAL WEBSITE.  \nWe will discuss strategies regarding Protection\, Investment\, Retirement for business owners and individuals and show our state of the art planning tool called The Living Balance Sheet – this helps people stay financially organized and a way to be educated along the way. \nSpecific topics that will be covered \n\nFinancial Stock Market Update as of May 2025\nLife Insurance and other protection strategies\nInvesting and Financial Organization\nRetirement Planning and staying on track\n\nSpeaker\nMark Saunders is a seasoned financial professional with over 25 years of experience helping individuals\, families\, and business owners secure their financial futures. Known as an industry expert\, Mark has dedicated his career to creating personalized strategies that align with his clients’ goals. His passion for helping others extends beyond finances\, as he strives to make a positive impact in both his clients’ lives and the local community. When he’s not working\, Mark enjoys spending quality time with his beautiful wife Jacqueline and their beloved grandchildren. His work is a reflection of his deep desire to empower others and contribute to their overall well-being.
URL:https://womensventurefund.org/event/managing-personal-finances-during-turbulent-economic-times-brought-to-you-by-national-fiancial-network/
END:VEVENT
BEGIN:VEVENT
DTSTART;TZID=America/New_York:20250528T170000
DTEND;TZID=America/New_York:20250528T180000
DTSTAMP:20260421T043011
CREATED:20250512T184138Z
LAST-MODIFIED:20250515T153350Z
UID:16467-1748451600-1748455200@womensventurefund.org
SUMMARY:Better Money Habits with Bank of America
DESCRIPTION:May 2025 | Financial Literacy Series\nJoin WVF and Bank of America for an in-person workshop focused on building Better Money Habits. This interactive session will provide valuable tools and insights to help you take control of your financial life\, covering topics such as: \n\nBudgeting and saving strategies\nUnderstanding credit\nPlanning for future financial goals\n\nWhether you’re looking to build a strong financial foundation or improve your current habits\, this workshop is designed to empower and educate. \nRegistration\n	First Name: *		Last Name: *		Company: *		City: *		State/Province: *		Phone: *		Email: *		Years in business?: *			Business Sector (please scroll to see all options):		Business ServicesFinancial ServicesHealth & BeautyInformation/PublishingManufacturing/IndustrialOtherRetailTechnology							* These fields are required.
URL:https://womensventurefund.org/event/better-money-habits-with-bank-of-america/
END:VEVENT
END:VCALENDAR