BEGIN:VCALENDAR
VERSION:2.0
PRODID:-//Women&#039;s Venture Fund - ECPv6.15.17.1//NONSGML v1.0//EN
CALSCALE:GREGORIAN
METHOD:PUBLISH
X-ORIGINAL-URL:https://womensventurefund.org
X-WR-CALDESC:Events for Women&#039;s Venture Fund
REFRESH-INTERVAL;VALUE=DURATION:PT1H
X-Robots-Tag:noindex
X-PUBLISHED-TTL:PT1H
BEGIN:VTIMEZONE
TZID:America/New_York
BEGIN:DAYLIGHT
TZOFFSETFROM:-0500
TZOFFSETTO:-0400
TZNAME:EDT
DTSTART:20240310T070000
END:DAYLIGHT
BEGIN:STANDARD
TZOFFSETFROM:-0400
TZOFFSETTO:-0500
TZNAME:EST
DTSTART:20241103T060000
END:STANDARD
BEGIN:DAYLIGHT
TZOFFSETFROM:-0500
TZOFFSETTO:-0400
TZNAME:EDT
DTSTART:20250309T070000
END:DAYLIGHT
BEGIN:STANDARD
TZOFFSETFROM:-0400
TZOFFSETTO:-0500
TZNAME:EST
DTSTART:20251102T060000
END:STANDARD
BEGIN:DAYLIGHT
TZOFFSETFROM:-0500
TZOFFSETTO:-0400
TZNAME:EDT
DTSTART:20260308T070000
END:DAYLIGHT
BEGIN:STANDARD
TZOFFSETFROM:-0400
TZOFFSETTO:-0500
TZNAME:EST
DTSTART:20261101T060000
END:STANDARD
END:VTIMEZONE
BEGIN:VEVENT
DTSTART;TZID=America/New_York:20250629T173000
DTEND;TZID=America/New_York:20250629T200000
DTSTAMP:20260423T134159
CREATED:20250512T182525Z
LAST-MODIFIED:20250604T203527Z
UID:16458-1751218200-1751227200@womensventurefund.org
SUMMARY:Get Informed. Dine and Apply
DESCRIPTION:June 2025 | Business Financial Literacy Series\nThis month\, take part in a one-of-a-kind experience designed to empower and inspire entrepreneurs. Join us for an engaging evening that combines networking and practical learning in real-time. In collaboration with Bank of America\, this dynamic workshop offers valuable insights and resources to support your business growth. You’ll also be part of “Women Over Dinner” (not-for-profit) initiative—an intimate gathering focused on community\, conversation\, and support for women in business. \nRegistration\n	First Name: *		Last Name: *		Company: *		City: *		State/Province: *		Phone: *		Email: *		Years in business?: *			Business Sector (please scroll to see all options):		Business ServicesFinancial ServicesHealth & BeautyInformation/PublishingManufacturing/IndustrialOtherRetailTechnology							* These fields are required.
URL:https://womensventurefund.org/event/get-informed-dine-and-apply/
END:VEVENT
END:VCALENDAR